BEGIN:VCALENDAR
VERSION:2.0
PRODID:-//SG de Marlijn - ECPv6.15.20//NONSGML v1.0//EN
CALSCALE:GREGORIAN
METHOD:PUBLISH
X-ORIGINAL-URL:https://sgdemarlijn.nl
X-WR-CALDESC:Evenementen voor SG de Marlijn
REFRESH-INTERVAL;VALUE=DURATION:PT1H
X-Robots-Tag:noindex
X-PUBLISHED-TTL:PT1H
BEGIN:VTIMEZONE
TZID:UTC
BEGIN:STANDARD
TZOFFSETFROM:+0000
TZOFFSETTO:+0000
TZNAME:UTC
DTSTART:20240101T000000
END:STANDARD
END:VTIMEZONE
BEGIN:VEVENT
DTSTART;TZID=UTC:20250907T080000
DTEND;TZID=UTC:20250907T170000
DTSTAMP:20260419T132607
CREATED:20250527T141422Z
LAST-MODIFIED:20250527T141422Z
UID:1796-1757232000-1757264400@sgdemarlijn.nl
SUMMARY:De Kanaalrace
DESCRIPTION:
URL:https://sgdemarlijn.nl/event/de-kanaalrace/
CATEGORIES:Open Water
END:VEVENT
BEGIN:VEVENT
DTSTART;TZID=UTC:20250831T080000
DTEND;TZID=UTC:20250831T170000
DTSTAMP:20260419T132607
CREATED:20250527T141320Z
LAST-MODIFIED:20250804T065302Z
UID:1792-1756627200-1756659600@sgdemarlijn.nl
SUMMARY:AFGELAST - 90e OW wedstrijden Oosterhout\, OZ&PC De Warande
DESCRIPTION:Afgelast wegens werkzaamheden aan de weg rondom de startlocatie!
URL:https://sgdemarlijn.nl/event/90e-ow-wedstrijden-oosterhout-ozpc-de-warande/
CATEGORIES:Open Water
END:VEVENT
BEGIN:VEVENT
DTSTART;TZID=UTC:20250823T080000
DTEND;TZID=UTC:20250823T170000
DTSTAMP:20260419T132607
CREATED:20250527T141254Z
LAST-MODIFIED:20250527T141254Z
UID:1790-1755936000-1755968400@sgdemarlijn.nl
SUMMARY:45e OWW De Binnenmaas\, ZVS
DESCRIPTION:
URL:https://sgdemarlijn.nl/event/45e-oww-de-binnenmaas-zvs/
CATEGORIES:Open Water
END:VEVENT
BEGIN:VEVENT
DTSTART;TZID=UTC:20250802T080000
DTEND;TZID=UTC:20250802T170000
DTSTAMP:20260419T132607
CREATED:20250527T141222Z
LAST-MODIFIED:20250527T141222Z
UID:1788-1754121600-1754154000@sgdemarlijn.nl
SUMMARY:Havenwedstrijden Breskens\, Scheldestroom
DESCRIPTION:
URL:https://sgdemarlijn.nl/event/havenwedstrijden-breskens-scheldestroom/
CATEGORIES:Open Water
END:VEVENT
BEGIN:VEVENT
DTSTART;TZID=UTC:20250720T080000
DTEND;TZID=UTC:20250720T170000
DTSTAMP:20260419T132607
CREATED:20250527T141146Z
LAST-MODIFIED:20250527T141146Z
UID:1786-1752998400-1753030800@sgdemarlijn.nl
SUMMARY:Open Water Gaasperplas\, Het Y
DESCRIPTION:
URL:https://sgdemarlijn.nl/event/open-water-gaasperplas-het-y/
CATEGORIES:Open Water
END:VEVENT
BEGIN:VEVENT
DTSTART;TZID=UTC:20250713T080000
DTEND;TZID=UTC:20250713T170000
DTSTAMP:20260419T132607
CREATED:20250527T141120Z
LAST-MODIFIED:20250527T141120Z
UID:1784-1752393600-1752426000@sgdemarlijn.nl
SUMMARY:27e Lektocht Beusichem-Culemborg\, ZC’90
DESCRIPTION:
URL:https://sgdemarlijn.nl/event/27e-lektocht-beusichem-culemborg-zc90/
CATEGORIES:Open Water
END:VEVENT
BEGIN:VEVENT
DTSTART;TZID=UTC:20250712T080000
DTEND;TZID=UTC:20250712T170000
DTSTAMP:20260419T132607
CREATED:20250527T141059Z
LAST-MODIFIED:20250527T141059Z
UID:1782-1752307200-1752339600@sgdemarlijn.nl
SUMMARY:Open Water Oude Veer\, Anna Paulowna
DESCRIPTION:
URL:https://sgdemarlijn.nl/event/open-water-oude-veer-anna-paulowna/
CATEGORIES:Open Water
END:VEVENT
BEGIN:VEVENT
DTSTART;TZID=UTC:20250706T080000
DTEND;TZID=UTC:20250706T170000
DTSTAMP:20260419T132607
CREATED:20250527T141027Z
LAST-MODIFIED:20250527T141027Z
UID:1780-1751788800-1751821200@sgdemarlijn.nl
SUMMARY:ONK OW & St. OWZ Zeeuwsch Vl.\, Sluis
DESCRIPTION:
URL:https://sgdemarlijn.nl/event/onk-ow-st-owz-zeeuwsch-vl-sluis/
CATEGORIES:Open Water
END:VEVENT
BEGIN:VEVENT
DTSTART;TZID=UTC:20250705T080000
DTEND;TZID=UTC:20250705T170000
DTSTAMP:20260419T132607
CREATED:20250519T190836Z
LAST-MODIFIED:20250519T190836Z
UID:1762-1751702400-1751734800@sgdemarlijn.nl
SUMMARY:ONK OW & St. OWZ Zeeuwsch Vl.\, Hoek
DESCRIPTION:
URL:https://sgdemarlijn.nl/event/onk-ow-st-owz-zeeuwsch-vl-hoek/
CATEGORIES:Open Water
END:VEVENT
BEGIN:VEVENT
DTSTART;TZID=UTC:20250629T080000
DTEND;TZID=UTC:20250629T170000
DTSTAMP:20260419T132607
CREATED:20250519T190753Z
LAST-MODIFIED:20250519T190753Z
UID:1760-1751184000-1751216400@sgdemarlijn.nl
SUMMARY:OWW OEZA\, Alkmaar
DESCRIPTION:
URL:https://sgdemarlijn.nl/event/oww-oeza-alkmaar/
CATEGORIES:Open Water
END:VEVENT
BEGIN:VEVENT
DTSTART;TZID=UTC:20250622T080000
DTEND;TZID=UTC:20250622T170000
DTSTAMP:20260419T132607
CREATED:20250519T190723Z
LAST-MODIFIED:20250519T190723Z
UID:1758-1750579200-1750611600@sgdemarlijn.nl
SUMMARY:3e Lage Vaart Race Dronten
DESCRIPTION:
URL:https://sgdemarlijn.nl/event/3e-lage-vaart-race-dronten/
CATEGORIES:Open Water
END:VEVENT
BEGIN:VEVENT
DTSTART;TZID=UTC:20250621T080000
DTEND;TZID=UTC:20250621T170000
DTSTAMP:20260419T132607
CREATED:20250519T190656Z
LAST-MODIFIED:20250519T190656Z
UID:1756-1750492800-1750525200@sgdemarlijn.nl
SUMMARY:Damster City Swim Appingedam
DESCRIPTION:
URL:https://sgdemarlijn.nl/event/damster-city-swim-appingedam/
CATEGORIES:Open Water
END:VEVENT
BEGIN:VEVENT
DTSTART;TZID=UTC:20250614T080000
DTEND;TZID=UTC:20250614T170000
DTSTAMP:20260419T132607
CREATED:20250519T190407Z
LAST-MODIFIED:20250519T190502Z
UID:1752-1749888000-1749920400@sgdemarlijn.nl
SUMMARY:Open Water wedstrijden Bodegraven
DESCRIPTION:
URL:https://sgdemarlijn.nl/event/open-water-wedstrijden-bodegraven/
CATEGORIES:Open Water
END:VEVENT
BEGIN:VEVENT
DTSTART;VALUE=DATE:20250608
DTEND;VALUE=DATE:20250609
DTSTAMP:20260419T132607
CREATED:20250519T185756Z
LAST-MODIFIED:20250527T143513Z
UID:1749-1749340800-1749427199@sgdemarlijn.nl
SUMMARY:10 km van Hoorn
DESCRIPTION:www.terredevanhoorn.nl
URL:https://sgdemarlijn.nl/event/10-km-van-hoorn/
CATEGORIES:Open Water
END:VEVENT
END:VCALENDAR